BEGIN:VCALENDAR
VERSION:2.0
PRODID:-//demosphere.net//NONSGML kigkonsult.se iCalcreator 2.22.1//
METHOD:REQUEST
X-WR-TIMEZONE:Europe/Paris
BEGIN:VEVENT
UID:https://gard.demosphere.net/rv/10118
DTSTAMP:20260509T090000Z
DESCRIPTION:plus d'infos sur : https://gard.demosphere.net/rv/10118
DTSTART:20260509T090000Z
DTEND:20260509T100000Z
GEO:+43.845321;+4.369923
LOCATION:Nîmes\, \nUniversité Hoche \n1 place Gaston Doumergue
SUMMARY:Fest'Hoche #4 - Festival de quartier culturel & citoyen à Nîmes - G
 ratuit
URL:https://gard.demosphere.net/rv/10118
END:VEVENT
END:VCALENDAR
