BEGIN:VCALENDAR
VERSION:2.0
PRODID:-//demosphere.net//NONSGML kigkonsult.se iCalcreator 2.22.1//
METHOD:REQUEST
X-WR-TIMEZONE:Europe/Paris
BEGIN:VEVENT
UID:https://gard.demosphere.net/rv/10119
DTSTAMP:20260503T130000Z
DESCRIPTION:plus d'infos sur : https://gard.demosphere.net/rv/10119
DTSTART:20260503T130000Z
DTEND:20260503T140000Z
GEO:+43.84387;+4.353891
LOCATION:Nîmes\, \nParc Meynier de salinelles
SUMMARY:Histoire enfouie du remembrement des terres agricoles en France
URL:https://gard.demosphere.net/rv/10119
END:VEVENT
END:VCALENDAR
