BEGIN:VCALENDAR
VERSION:2.0
PRODID:-//demosphere.net//NONSGML kigkonsult.se iCalcreator 2.22.1//
METHOD:REQUEST
X-WR-TIMEZONE:Europe/Paris
BEGIN:VEVENT
UID:https://gard.demosphere.net/rv/10120
DTSTAMP:20260422T163000Z
DESCRIPTION:plus d'infos sur : https://gard.demosphere.net/rv/10120
DTSTART:20260422T163000Z
DTEND:20260422T173000Z
GEO:+43.838191;+4.356115
LOCATION:Nîmes\, \nMaison Carrée
SUMMARY:AFPS - RASSEMBLEMENT DE SOLIDARITÉ AVEC LE PEUPLE PALESTINIEN
URL:https://gard.demosphere.net/rv/10120
END:VEVENT
END:VCALENDAR
