BEGIN:VCALENDAR
VERSION:2.0
PRODID:-//demosphere.net//NONSGML kigkonsult.se iCalcreator 2.22.1//
METHOD:REQUEST
X-WR-TIMEZONE:Europe/Paris
BEGIN:VEVENT
UID:https://gard.demosphere.net/rv/10121
DTSTAMP:20260425T090000Z
DESCRIPTION:plus d'infos sur : https://gard.demosphere.net/rv/10121
DTSTART:20260425T090000Z
DTEND:20260425T100000Z
GEO:+43.83331;+4.364312
LOCATION:Nîmes\, \nAvenue Feuchères
SUMMARY:AFPS - CONTRE LA GUERRE\, L'OCCUPATION ET LA COLONISATION
URL:https://gard.demosphere.net/rv/10121
END:VEVENT
END:VCALENDAR
