BEGIN:VCALENDAR
VERSION:2.0
PRODID:-//demosphere.net//NONSGML kigkonsult.se iCalcreator 2.22.1//
METHOD:REQUEST
X-WR-TIMEZONE:Europe/Paris
BEGIN:VEVENT
UID:https://gard.demosphere.net/rv/10122
DTSTAMP:20260430T170000Z
DESCRIPTION:plus d'infos sur : https://gard.demosphere.net/rv/10122
DTSTART:20260430T170000Z
DTEND:20260430T180000Z
GEO:+43.839041;+4.356274
LOCATION:Nîmes\, \nMaison du Protestantisme
SUMMARY:AFPS - RENCONTRE EXCEPTIONNELLE AVEC ABDELFATTAH ABUSROUR
URL:https://gard.demosphere.net/rv/10122
END:VEVENT
END:VCALENDAR
