BEGIN:VCALENDAR
VERSION:2.0
PRODID:-//demosphere.net//NONSGML kigkonsult.se iCalcreator 2.22.1//
METHOD:REQUEST
X-WR-TIMEZONE:Europe/Paris
BEGIN:VEVENT
UID:https://gard.demosphere.net/rv/10123
DTSTAMP:20260425T080000Z
DESCRIPTION:plus d'infos sur : https://gard.demosphere.net/rv/10123
DTSTART:20260425T080000Z
DTEND:20260425T090000Z
GEO:+43.839726;+4.355628
LOCATION:Nîmes\, \nsquare Antonin\, Nîmes
SUMMARY:Gratiféria (zone de gratuité) 10h-16h
URL:https://gard.demosphere.net/rv/10123
END:VEVENT
END:VCALENDAR
