BEGIN:VCALENDAR
VERSION:2.0
PRODID:-//demosphere.net//NONSGML kigkonsult.se iCalcreator 2.22.1//
METHOD:REQUEST
X-WR-TIMEZONE:Europe/Paris
BEGIN:VEVENT
UID:https://gard.demosphere.net/rv/10124
DTSTAMP:20260425T150000Z
DESCRIPTION:plus d'infos sur : https://gard.demosphere.net/rv/10124
DTSTART:20260425T150000Z
DTEND:20260425T160000Z
GEO:+43.840466;+4.362581
LOCATION:Nîmes\, \nBar du Midi \n51 boulevard Gambetta
SUMMARY:projection-débat 'Persepolis' de Marjane Satrapi
URL:https://gard.demosphere.net/rv/10124
END:VEVENT
END:VCALENDAR
