BEGIN:VCALENDAR
VERSION:2.0
PRODID:-//demosphere.net//NONSGML kigkonsult.se iCalcreator 2.22.1//
METHOD:REQUEST
X-WR-TIMEZONE:Europe/Paris
BEGIN:VEVENT
UID:https://gard.demosphere.net/rv/10125
DTSTAMP:20260426T120000Z
DESCRIPTION:plus d'infos sur : https://gard.demosphere.net/rv/10125
DTSTART:20260426T120000Z
DTEND:20260426T130000Z
GEO:+43.838023;+4.35503
LOCATION:Nîmes\, \nCarré d'Art
SUMMARY:Rassemblement en hommage à Aboubakar Cissé
URL:https://gard.demosphere.net/rv/10125
END:VEVENT
END:VCALENDAR
